Package: optimalFlowData Version: 1.18.0 Command: /home/biocbuild/bbs-3.20-bioc/R/bin/R CMD build --keep-empty-dirs --no-resave-data optimalFlowData StartedAt: 2025-02-04 11:30:26 -0500 (Tue, 04 Feb 2025) EndedAt: 2025-02-04 11:31:16 -0500 (Tue, 04 Feb 2025) EllapsedTime: 49.3 seconds RetCode: 0 Status: OK PackageFile: optimalFlowData_1.18.0.tar.gz PackageFileSize: 75.86 MiB