Package: optimalFlowData Version: 1.18.0 Command: /home/biocbuild/bbs-3.20-bioc/R/bin/R CMD check --install=check:optimalFlowData.install-out.txt --library=/home/biocbuild/bbs-3.20-bioc/R/site-library --timings optimalFlowData_1.18.0.tar.gz StartedAt: 2025-02-04 12:26:38 -0500 (Tue, 04 Feb 2025) EndedAt: 2025-02-04 12:27:40 -0500 (Tue, 04 Feb 2025) EllapsedTime: 61.8 seconds RetCode: 0 Status: WARNINGS CheckDir: optimalFlowData.Rcheck Warnings: 1