Package: pd.atdschip.tiling Version: 0.44.0 Command: /home/biocbuild/bbs-3.20-bioc/R/bin/R CMD build --keep-empty-dirs --no-resave-data pd.atdschip.tiling StartedAt: 2025-01-30 11:32:16 -0500 (Thu, 30 Jan 2025) EndedAt: 2025-01-30 11:34:50 -0500 (Thu, 30 Jan 2025) EllapsedTime: 153.3 seconds RetCode: 0 Status: OK PackageFile: pd.atdschip.tiling_0.44.0.tar.gz PackageFileSize: 134.3 MiB