Package: pd.atdschip.tiling Version: 0.44.0 Command: /home/biocbuild/bbs-3.20-bioc/R/bin/R CMD INSTALL pd.atdschip.tiling StartedAt: 2025-01-30 11:01:07 -0500 (Thu, 30 Jan 2025) EndedAt: 2025-01-30 11:01:35 -0500 (Thu, 30 Jan 2025) EllapsedTime: 27.7 seconds RetCode: 0 Status: OK