Package: prebsdata Version: 1.42.0 Command: /home/biocbuild/bbs-3.20-bioc/R/bin/R CMD check --install=check:prebsdata.install-out.txt --library=/home/biocbuild/bbs-3.20-bioc/R/site-library --timings prebsdata_1.42.0.tar.gz StartedAt: 2025-02-06 12:28:21 -0500 (Thu, 06 Feb 2025) EndedAt: 2025-02-06 12:28:35 -0500 (Thu, 06 Feb 2025) EllapsedTime: 13.9 seconds RetCode: 0 Status: OK CheckDir: prebsdata.Rcheck Warnings: 0