Package: prostateCancerVarambally Version: 1.34.0 Command: /home/biocbuild/bbs-3.20-bioc/R/bin/R CMD build --keep-empty-dirs --no-resave-data prostateCancerVarambally StartedAt: 2025-02-06 11:32:04 -0500 (Thu, 06 Feb 2025) EndedAt: 2025-02-06 11:32:12 -0500 (Thu, 06 Feb 2025) EllapsedTime: 7.6 seconds RetCode: 0 Status: OK PackageFile: prostateCancerVarambally_1.34.0.tar.gz PackageFileSize: 5.717 MiB