Package: ptairData Version: 1.14.0 Command: /home/biocbuild/bbs-3.20-bioc/R/bin/R CMD build --keep-empty-dirs --no-resave-data ptairData StartedAt: 2025-02-06 11:32:09 -0500 (Thu, 06 Feb 2025) EndedAt: 2025-02-06 11:32:19 -0500 (Thu, 06 Feb 2025) EllapsedTime: 10.0 seconds RetCode: 0 Status: OK PackageFile: ptairData_1.14.0.tar.gz PackageFileSize: 53.1 MiB