Package: ptairData Version: 1.14.0 Command: /home/biocbuild/bbs-3.20-bioc/R/bin/R CMD INSTALL ptairData StartedAt: 2025-02-06 10:56:08 -0500 (Thu, 06 Feb 2025) EndedAt: 2025-02-06 10:56:13 -0500 (Thu, 06 Feb 2025) EllapsedTime: 5.1 seconds RetCode: 0 Status: OK