Package: pumadata Version: 2.42.0 Command: /home/biocbuild/bbs-3.20-bioc/R/bin/R CMD build --keep-empty-dirs --no-resave-data pumadata StartedAt: 2025-01-30 11:33:17 -0500 (Thu, 30 Jan 2025) EndedAt: 2025-01-30 11:33:58 -0500 (Thu, 30 Jan 2025) EllapsedTime: 40.3 seconds RetCode: 0 Status: OK PackageFile: pumadata_2.42.0.tar.gz PackageFileSize: 101.7 MiB