Package: pumadata Version: 2.42.0 Command: /home/biocbuild/bbs-3.20-bioc/R/bin/R CMD INSTALL pumadata StartedAt: 2025-01-30 11:03:56 -0500 (Thu, 30 Jan 2025) EndedAt: 2025-01-30 11:04:30 -0500 (Thu, 30 Jan 2025) EllapsedTime: 34.3 seconds RetCode: 0 Status: OK