Package: qPLEXdata Version: 1.24.0 Command: /home/biocbuild/bbs-3.20-bioc/R/bin/R CMD build --keep-empty-dirs --no-resave-data qPLEXdata StartedAt: 2025-02-06 11:32:24 -0500 (Thu, 06 Feb 2025) EndedAt: 2025-02-06 11:33:33 -0500 (Thu, 06 Feb 2025) EllapsedTime: 68.2 seconds RetCode: 0 Status: OK PackageFile: qPLEXdata_1.24.0.tar.gz PackageFileSize: 11.7 MiB