Package: qPLEXdata Version: 1.24.0 Command: /home/biocbuild/bbs-3.20-bioc/R/bin/R CMD check --install=check:qPLEXdata.install-out.txt --library=/home/biocbuild/bbs-3.20-bioc/R/site-library --timings qPLEXdata_1.24.0.tar.gz StartedAt: 2025-02-06 12:29:42 -0500 (Thu, 06 Feb 2025) EndedAt: 2025-02-06 12:34:07 -0500 (Thu, 06 Feb 2025) EllapsedTime: 265.2 seconds RetCode: 0 Status: WARNINGS CheckDir: qPLEXdata.Rcheck Warnings: 1