Package: raerdata Version: 1.4.0 Command: /home/biocbuild/bbs-3.20-bioc/R/bin/R CMD build --keep-empty-dirs --no-resave-data raerdata StartedAt: 2025-02-06 11:32:26 -0500 (Thu, 06 Feb 2025) EndedAt: 2025-02-06 11:33:57 -0500 (Thu, 06 Feb 2025) EllapsedTime: 90.5 seconds RetCode: 0 Status: OK PackageFile: raerdata_1.4.0.tar.gz PackageFileSize: 245.8 KiB