Package: raerdata Version: 1.4.0 Command: /home/biocbuild/bbs-3.20-bioc/R/bin/R CMD check --install=check:raerdata.install-out.txt --library=/home/biocbuild/bbs-3.20-bioc/R/site-library --timings raerdata_1.4.0.tar.gz StartedAt: 2025-02-06 12:29:48 -0500 (Thu, 06 Feb 2025) EndedAt: 2025-02-06 12:35:48 -0500 (Thu, 06 Feb 2025) EllapsedTime: 359.6 seconds RetCode: 0 Status: OK CheckDir: raerdata.Rcheck Warnings: 0