Package: scaeData Version: 1.2.0 Command: /home/biocbuild/bbs-3.20-bioc/R/bin/R CMD build --keep-empty-dirs --no-resave-data scaeData StartedAt: 2025-02-06 11:35:19 -0500 (Thu, 06 Feb 2025) EndedAt: 2025-02-06 11:38:29 -0500 (Thu, 06 Feb 2025) EllapsedTime: 190.1 seconds RetCode: 0 Status: OK PackageFile: scaeData_1.2.0.tar.gz PackageFileSize: 300.9 KiB