Package: seq2pathway.data Version: 1.38.0 Command: /home/biocbuild/bbs-3.20-bioc/R/bin/R CMD build --keep-empty-dirs --no-resave-data seq2pathway.data StartedAt: 2025-02-06 11:36:23 -0500 (Thu, 06 Feb 2025) EndedAt: 2025-02-06 11:37:42 -0500 (Thu, 06 Feb 2025) EllapsedTime: 79.3 seconds RetCode: 0 Status: OK PackageFile: seq2pathway.data_1.38.0.tar.gz PackageFileSize: 97.22 MiB