Package: seq2pathway.data Version: 1.38.0 Command: /home/biocbuild/bbs-3.20-bioc/R/bin/R CMD check --install=check:seq2pathway.data.install-out.txt --library=/home/biocbuild/bbs-3.20-bioc/R/site-library --timings seq2pathway.data_1.38.0.tar.gz StartedAt: 2025-01-30 12:39:11 -0500 (Thu, 30 Jan 2025) EndedAt: 2025-01-30 12:39:51 -0500 (Thu, 30 Jan 2025) EllapsedTime: 40.3 seconds RetCode: 0 Status: WARNINGS CheckDir: seq2pathway.data.Rcheck Warnings: 1