Package: seq2pathway.data Version: 1.38.0 Command: /home/biocbuild/bbs-3.20-bioc/R/bin/R CMD INSTALL seq2pathway.data StartedAt: 2025-01-30 10:57:44 -0500 (Thu, 30 Jan 2025) EndedAt: 2025-01-30 10:57:46 -0500 (Thu, 30 Jan 2025) EllapsedTime: 1.9 seconds RetCode: 0 Status: OK