Package: sesameData Version: 1.24.0 Command: /home/biocbuild/bbs-3.20-bioc/R/bin/R CMD check --install=check:sesameData.install-out.txt --library=/home/biocbuild/bbs-3.20-bioc/R/site-library --timings sesameData_1.24.0.tar.gz StartedAt: 2025-02-06 12:37:37 -0500 (Thu, 06 Feb 2025) EndedAt: 2025-02-06 12:40:18 -0500 (Thu, 06 Feb 2025) EllapsedTime: 161.7 seconds RetCode: 0 Status: OK CheckDir: sesameData.Rcheck Warnings: 0