Package: sesameData Version: 1.24.0 Command: /home/biocbuild/bbs-3.20-bioc/R/bin/R CMD INSTALL sesameData StartedAt: 2025-02-06 11:03:39 -0500 (Thu, 06 Feb 2025) EndedAt: 2025-02-06 11:03:54 -0500 (Thu, 06 Feb 2025) EllapsedTime: 15.3 seconds RetCode: 0 Status: OK