Package: shinyMethylData Version: 1.26.0 Maintainer: Jean-Philippe Fortin MaintainerEmail: jfortin at jhsph.edu git_url: https://git.bioconductor.org/packages/shinyMethylData git_branch: RELEASE_3_20 git_last_commit: a49691b git_last_commit_date: 2024-10-29 09:39:27 -0500 (Tue, 29 Oct 2024)