Package: shinyMethylData Version: 1.26.0 Command: /home/biocbuild/bbs-3.20-bioc/R/bin/R CMD check --install=check:shinyMethylData.install-out.txt --library=/home/biocbuild/bbs-3.20-bioc/R/site-library --timings shinyMethylData_1.26.0.tar.gz StartedAt: 2025-01-30 12:39:54 -0500 (Thu, 30 Jan 2025) EndedAt: 2025-01-30 12:40:10 -0500 (Thu, 30 Jan 2025) EllapsedTime: 16.3 seconds RetCode: 0 Status: WARNINGS CheckDir: shinyMethylData.Rcheck Warnings: 2