Package: shinyMethylData Version: 1.26.0 Command: /home/biocbuild/bbs-3.20-bioc/R/bin/R CMD INSTALL shinyMethylData StartedAt: 2025-01-30 10:55:55 -0500 (Thu, 30 Jan 2025) EndedAt: 2025-01-30 10:56:11 -0500 (Thu, 30 Jan 2025) EllapsedTime: 15.7 seconds RetCode: 0 Status: OK