Package: smokingMouse Version: 1.4.0 Command: /home/biocbuild/bbs-3.20-bioc/R/bin/R CMD INSTALL smokingMouse StartedAt: 2025-02-06 10:55:13 -0500 (Thu, 06 Feb 2025) EndedAt: 2025-02-06 10:55:14 -0500 (Thu, 06 Feb 2025) EllapsedTime: 1.4 seconds RetCode: 0 Status: OK