Package: spatialDmelxsim Version: 1.12.0 Command: /home/biocbuild/bbs-3.20-bioc/R/bin/R CMD build --keep-empty-dirs --no-resave-data spatialDmelxsim StartedAt: 2025-02-11 11:39:22 -0500 (Tue, 11 Feb 2025) EndedAt: 2025-02-11 11:40:11 -0500 (Tue, 11 Feb 2025) EllapsedTime: 48.7 seconds RetCode: 0 Status: OK PackageFile: spatialDmelxsim_1.12.0.tar.gz PackageFileSize: 890.7 KiB