Package: spatialLIBD Version: 1.18.0 Maintainer: Leonardo Collado-Torres MaintainerEmail: lcolladotor at gmail.com git_url: https://git.bioconductor.org/packages/spatialLIBD git_branch: RELEASE_3_20 git_last_commit: eed7543 git_last_commit_date: 2024-10-29 09:51:06 -0500 (Tue, 29 Oct 2024)