Package: spatialLIBD Version: 1.18.0 Command: /home/biocbuild/bbs-3.20-bioc/R/bin/R CMD check --install=check:spatialLIBD.install-out.txt --library=/home/biocbuild/bbs-3.20-bioc/R/site-library --timings spatialLIBD_1.18.0.tar.gz StartedAt: 2025-02-06 12:40:07 -0500 (Thu, 06 Feb 2025) EndedAt: 2025-02-06 12:58:01 -0500 (Thu, 06 Feb 2025) EllapsedTime: 1074.4 seconds RetCode: 0 Status: OK CheckDir: spatialLIBD.Rcheck Warnings: 0