Package: spatialLIBD Version: 1.18.0 Command: /home/biocbuild/bbs-3.20-bioc/R/bin/R CMD INSTALL spatialLIBD StartedAt: 2025-01-30 11:03:26 -0500 (Thu, 30 Jan 2025) EndedAt: 2025-01-30 11:04:17 -0500 (Thu, 30 Jan 2025) EllapsedTime: 51.1 seconds RetCode: 0 Status: OK