Package: stemHypoxia Version: 1.42.0 Maintainer: Cristobal Fresno MaintainerEmail: cristobalfresno at gmail.com git_url: https://git.bioconductor.org/packages/stemHypoxia git_branch: RELEASE_3_20 git_last_commit: c1bab08 git_last_commit_date: 2024-10-29 09:35:12 -0500 (Tue, 29 Oct 2024)