Package: stemHypoxia Version: 1.42.0 Command: /home/biocbuild/bbs-3.20-bioc/R/bin/R CMD build --keep-empty-dirs --no-resave-data stemHypoxia StartedAt: 2025-01-30 11:39:42 -0500 (Thu, 30 Jan 2025) EndedAt: 2025-01-30 11:39:44 -0500 (Thu, 30 Jan 2025) EllapsedTime: 1.9 seconds RetCode: 0 Status: OK PackageFile: stemHypoxia_1.42.0.tar.gz PackageFileSize: 2.773 MiB