Package: systemPipeRdata Version: 2.10.0 Command: /home/biocbuild/bbs-3.20-bioc/R/bin/R CMD build --keep-empty-dirs --no-resave-data systemPipeRdata StartedAt: 2025-02-06 11:38:32 -0500 (Thu, 06 Feb 2025) EndedAt: 2025-02-06 11:39:41 -0500 (Thu, 06 Feb 2025) EllapsedTime: 69.5 seconds RetCode: 0 Status: OK PackageFile: systemPipeRdata_2.10.0.tar.gz PackageFileSize: 272.7 MiB