Package: tofsimsData Version: 1.34.0 Command: /home/biocbuild/bbs-3.20-bioc/R/bin/R CMD build --keep-empty-dirs --no-resave-data tofsimsData StartedAt: 2025-01-30 11:42:05 -0500 (Thu, 30 Jan 2025) EndedAt: 2025-01-30 11:42:13 -0500 (Thu, 30 Jan 2025) EllapsedTime: 8.0 seconds RetCode: 0 Status: OK PackageFile: tofsimsData_1.34.0.tar.gz PackageFileSize: 10.5 MiB