Package: topdownrdata Version: 1.28.0 Command: /home/biocbuild/bbs-3.20-bioc/R/bin/R CMD build --keep-empty-dirs --no-resave-data topdownrdata StartedAt: 2025-02-11 11:42:12 -0500 (Tue, 11 Feb 2025) EndedAt: 2025-02-11 11:42:20 -0500 (Tue, 11 Feb 2025) EllapsedTime: 8.0 seconds RetCode: 0 Status: OK PackageFile: topdownrdata_1.28.0.tar.gz PackageFileSize: 100.9 MiB