Package: topdownrdata Version: 1.28.0 Command: /home/biocbuild/bbs-3.20-bioc/R/bin/R CMD INSTALL topdownrdata StartedAt: 2025-02-11 11:01:37 -0500 (Tue, 11 Feb 2025) EndedAt: 2025-02-11 11:02:16 -0500 (Tue, 11 Feb 2025) EllapsedTime: 39.1 seconds RetCode: 0 Status: OK