Package: tuberculosis Version: 1.12.0 Command: /home/biocbuild/bbs-3.20-bioc/R/bin/R CMD build --keep-empty-dirs --no-resave-data tuberculosis StartedAt: 2025-01-30 11:42:23 -0500 (Thu, 30 Jan 2025) EndedAt: 2025-01-30 11:43:38 -0500 (Thu, 30 Jan 2025) EllapsedTime: 75.6 seconds RetCode: 0 Status: OK PackageFile: tuberculosis_1.12.0.tar.gz PackageFileSize: 352.7 KiB