Package: tuberculosis Version: 1.12.0 Command: /home/biocbuild/bbs-3.20-bioc/R/bin/R CMD INSTALL tuberculosis StartedAt: 2025-01-30 10:59:57 -0500 (Thu, 30 Jan 2025) EndedAt: 2025-01-30 11:00:24 -0500 (Thu, 30 Jan 2025) EllapsedTime: 26.9 seconds RetCode: 0 Status: OK