Package: tweeDEseqCountData Version: 1.44.0 Command: /home/biocbuild/bbs-3.20-bioc/R/bin/R CMD build --keep-empty-dirs --no-resave-data tweeDEseqCountData StartedAt: 2025-01-30 11:42:34 -0500 (Thu, 30 Jan 2025) EndedAt: 2025-01-30 11:42:42 -0500 (Thu, 30 Jan 2025) EllapsedTime: 8.0 seconds RetCode: 0 Status: OK PackageFile: tweeDEseqCountData_1.44.0.tar.gz PackageFileSize: 40.83 MiB