Package: tximportData Version: 1.34.0 Command: /home/biocbuild/bbs-3.20-bioc/R/bin/R CMD build --keep-empty-dirs --no-resave-data tximportData StartedAt: 2025-01-30 11:42:43 -0500 (Thu, 30 Jan 2025) EndedAt: 2025-01-30 11:45:02 -0500 (Thu, 30 Jan 2025) EllapsedTime: 138.8 seconds RetCode: 0 Status: OK PackageFile: tximportData_1.34.0.tar.gz PackageFileSize: 302.1 MiB