Package: vulcandata Version: 1.28.0 Command: /home/biocbuild/bbs-3.20-bioc/R/bin/R CMD build --keep-empty-dirs --no-resave-data vulcandata StartedAt: 2025-02-06 11:41:49 -0500 (Thu, 06 Feb 2025) EndedAt: 2025-02-06 11:41:59 -0500 (Thu, 06 Feb 2025) EllapsedTime: 9.6 seconds RetCode: 0 Status: OK PackageFile: vulcandata_1.28.0.tar.gz PackageFileSize: 44.75 MiB