Package: yeastExpData Version: 0.52.0 Command: /home/biocbuild/bbs-3.20-bioc/R/bin/R CMD build --keep-empty-dirs --no-resave-data yeastExpData StartedAt: 2025-02-06 11:42:18 -0500 (Thu, 06 Feb 2025) EndedAt: 2025-02-06 11:42:26 -0500 (Thu, 06 Feb 2025) EllapsedTime: 8.1 seconds RetCode: 0 Status: OK PackageFile: yeastExpData_0.52.0.tar.gz PackageFileSize: 935 KiB