Package: yeastGSData Version: 0.44.0 Command: /home/biocbuild/bbs-3.20-bioc/R/bin/R CMD build --keep-empty-dirs --no-resave-data yeastGSData StartedAt: 2025-02-06 11:42:19 -0500 (Thu, 06 Feb 2025) EndedAt: 2025-02-06 11:42:34 -0500 (Thu, 06 Feb 2025) EllapsedTime: 15.2 seconds RetCode: 0 Status: OK PackageFile: yeastGSData_0.44.0.tar.gz PackageFileSize: 8.124 MiB