Package: yeastNagalakshmi Version: 1.42.0 Command: /home/biocbuild/bbs-3.20-bioc/R/bin/R CMD build --keep-empty-dirs --no-resave-data yeastNagalakshmi StartedAt: 2025-01-30 11:43:55 -0500 (Thu, 30 Jan 2025) EndedAt: 2025-01-30 11:43:58 -0500 (Thu, 30 Jan 2025) EllapsedTime: 2.8 seconds RetCode: 0 Status: OK PackageFile: yeastNagalakshmi_1.42.0.tar.gz PackageFileSize: 14.33 MiB