Package: yeastNagalakshmi Version: 1.42.0 Command: /home/biocbuild/bbs-3.20-bioc/R/bin/R CMD check --install=check:yeastNagalakshmi.install-out.txt --library=/home/biocbuild/bbs-3.20-bioc/R/site-library --timings yeastNagalakshmi_1.42.0.tar.gz StartedAt: 2025-01-30 12:54:23 -0500 (Thu, 30 Jan 2025) EndedAt: 2025-01-30 12:54:32 -0500 (Thu, 30 Jan 2025) EllapsedTime: 9.6 seconds RetCode: 0 Status: OK CheckDir: yeastNagalakshmi.Rcheck Warnings: 0