Package: BiocMetaWorkflow Version: 1.28.0 Command: /Library/Frameworks/R.framework/Resources/bin/R CMD INSTALL BiocMetaWorkflow StartedAt: 2025-02-07 13:00:28 -0500 (Fri, 07 Feb 2025) EndedAt: 2025-02-07 13:00:44 -0500 (Fri, 07 Feb 2025) EllapsedTime: 15.6 seconds RetCode: 0 Status: OK