Package: BiocMetaWorkflow Version: 1.28.0 Command: chmod a+r BiocMetaWorkflow -R && F:\biocbuild\bbs-3.20-bioc\R\bin\R.exe CMD build --keep-empty-dirs --no-resave-data BiocMetaWorkflow StartedAt: 2025-02-07 13:07:06 -0500 (Fri, 07 Feb 2025) EndedAt: 2025-02-07 13:07:28 -0500 (Fri, 07 Feb 2025) EllapsedTime: 21.5 seconds RetCode: 0 Status: OK PackageFile: BiocMetaWorkflow_1.28.0.tar.gz PackageFileSize: 401.3 KiB