Package: BiocMetaWorkflow Version: 1.28.0 Command: F:\biocbuild\bbs-3.20-bioc\R\bin\R.exe CMD INSTALL BiocMetaWorkflow StartedAt: 2025-02-07 13:01:26 -0500 (Fri, 07 Feb 2025) EndedAt: 2025-02-07 13:01:31 -0500 (Fri, 07 Feb 2025) EllapsedTime: 4.1 seconds RetCode: 0 Status: OK