Package: CAGEWorkflow Version: 1.22.0 Command: /Library/Frameworks/R.framework/Resources/bin/R CMD build --keep-empty-dirs --no-resave-data CAGEWorkflow StartedAt: 2025-02-07 13:10:48 -0500 (Fri, 07 Feb 2025) EndedAt: 2025-02-07 13:33:26 -0500 (Fri, 07 Feb 2025) EllapsedTime: 1357.6 seconds RetCode: 0 Status: OK PackageFile: CAGEWorkflow_1.22.0.tar.gz PackageFileSize: 906.6 KiB