Package: CAGEWorkflow Version: 1.22.0 Command: /Library/Frameworks/R.framework/Resources/bin/R CMD INSTALL CAGEWorkflow StartedAt: 2025-02-07 13:02:09 -0500 (Fri, 07 Feb 2025) EndedAt: 2025-02-07 13:03:47 -0500 (Fri, 07 Feb 2025) EllapsedTime: 97.8 seconds RetCode: 0 Status: OK