Package: CAGEWorkflow Version: 1.22.0 Command: /home/biocbuild/bbs-3.20-bioc/R/bin/R CMD build --keep-empty-dirs --no-resave-data CAGEWorkflow StartedAt: 2025-02-07 13:04:11 -0500 (Fri, 07 Feb 2025) EndedAt: 2025-02-07 13:11:38 -0500 (Fri, 07 Feb 2025) EllapsedTime: 446.2 seconds RetCode: 0 Status: OK PackageFile: CAGEWorkflow_1.22.0.tar.gz PackageFileSize: 816.1 KiB