Package: EGSEA123 Version: 1.30.0 Command: /Library/Frameworks/R.framework/Resources/bin/R CMD build --keep-empty-dirs --no-resave-data EGSEA123 StartedAt: 2025-02-07 13:11:06 -0500 (Fri, 07 Feb 2025) EndedAt: 2025-02-07 13:26:19 -0500 (Fri, 07 Feb 2025) EllapsedTime: 912.3 seconds RetCode: 0 Status: OK PackageFile: EGSEA123_1.30.0.tar.gz PackageFileSize: 2.083 MiB